BEGIN:VCALENDAR
VERSION:2.0
PRODID:-//wp-events-plugin.com//6.6.3//EN
TZID:Europe/London
X-WR-TIMEZONE:Europe/London
BEGIN:VEVENT
UID:2@toy-library.co.uk
DTSTART;TZID=Europe/London:20250409T103000
DTEND;TZID=Europe/London:20250409T130000
DTSTAMP:20250331T061536Z
URL:https://toy-library.co.uk/events/introduction-to-safeguarding-adults-0
 9-04-2025/
SUMMARY:Introduction to Safeguarding Adults (9-4-2025)
DESCRIPTION:This online training will give you a basic understanding of the
  roles and responsibilities in safeguarding adults and how to respond to c
 oncerns.\n\nCost: £25 per participant.\n\nWho is this training for?\nPaid
  members of staff or volunteers for organisations working with vulnerable 
 adults\, who need an introduction to safeguarding or refresher training. 
  NB: It is advised that safeguarding training is updated every 3 years\n\n
 What will I learn from this training?\nThe nature of abuse in relation to 
 adults and how to recognise it\nWhere and how to report concerns\nWhere to
  get further information and advice\nYou’ll be issued a certificate of a
 ttendance following the completion of this training\n\nWho will be deliver
 ing this training?\nThe Toy Library now delivers this training – the con
 tent and price is exactly the same as the former delivery by Nottingham CV
 S.\n\nHow will this training be delivered?\nThis training will be delivere
 d online via Zoom. It’ll be interactive and may use various tools and tr
 aining methods\, which the trainer will support you with using. To get the
  most out of this training\, please make sure you have a stable internet c
 onnection\, working camera and microphone\, and a quiet space to join us f
 rom.\n\nAccessibility\nIf you have any accessibility needs\, please let us
  know on our booking form. We might be in touch to discuss any necessary a
 djustments we can make\, so you can fully engage in the training. Closed c
 aptions can be enabled during all our online training.
CATEGORIES:Introduction to Safeguarding Adults
END:VEVENT
BEGIN:VTIMEZONE
TZID:Europe/London
X-LIC-LOCATION:Europe/London
BEGIN:DAYLIGHT
DTSTART:20250330T020000
TZOFFSETFROM:+0000
TZOFFSETTO:+0100
TZNAME:BST
END:DAYLIGHT
END:VTIMEZONE
END:VCALENDAR