BEGIN:VCALENDAR
VERSION:2.0
PRODID:-//wp-events-plugin.com//6.6.3//EN
TZID:Europe/London
X-WR-TIMEZONE:Europe/London
BEGIN:VEVENT
UID:1@toy-library.co.uk
DTSTART;TZID=Europe/London:20250203T000000
DTEND;TZID=Europe/London:20250203T000000
DTSTAMP:20250514T104753Z
URL:https://toy-library.co.uk/events/ben-test-stripe-1-01/
SUMMARY:Ben test stripe 1.01
DESCRIPTION:Test event for Stripe 1.01
ATTACH;FMTTYPE=image/jpeg:https://toy-library.co.uk/wp-content/uploads/202
 4/03/Toy-Library-logo-Only-white.png
END:VEVENT
BEGIN:VTIMEZONE
TZID:Europe/London
X-LIC-LOCATION:Europe/London
BEGIN:STANDARD
DTSTART:20241027T010000
TZOFFSETFROM:+0100
TZOFFSETTO:+0000
TZNAME:GMT
END:STANDARD
END:VTIMEZONE
END:VCALENDAR